BEGIN:VCALENDAR
VERSION:2.0
PRODID:-//IMA Mira Bhayander - ECPv6.15.20//NONSGML v1.0//EN
CALSCALE:GREGORIAN
METHOD:PUBLISH
X-WR-CALNAME:IMA Mira Bhayander
X-ORIGINAL-URL:https://imamirabhayander.org
X-WR-CALDESC:Events for IMA Mira Bhayander
REFRESH-INTERVAL;VALUE=DURATION:PT1H
X-Robots-Tag:noindex
X-PUBLISHED-TTL:PT1H
BEGIN:VTIMEZONE
TZID:Asia/Kolkata
BEGIN:STANDARD
TZOFFSETFROM:+0530
TZOFFSETTO:+0530
TZNAME:IST
DTSTART:20230101T000000
END:STANDARD
END:VTIMEZONE
BEGIN:VEVENT
DTSTART;TZID=Asia/Kolkata:20240510T130000
DTEND;TZID=Asia/Kolkata:20240510T170000
DTSTAMP:20260424T014056
CREATED:20240425T105140Z
LAST-MODIFIED:20240517T065529Z
UID:8739-1715346000-1715360400@imamirabhayander.org
SUMMARY:Life Saving Skills
DESCRIPTION:IMA MB presents Life Saving Skills CME on May 10\, 2024. \n1 MMC Credit Point Applied \nEvent Photos
URL:https://imamirabhayander.org/event/life-saving-skills/
CATEGORIES:CME,Workshop
ATTACH;FMTTYPE=image/png:https://imamirabhayander.org/wp-content/uploads/2024/04/Life-Saving-Skills-Poster.png
END:VEVENT
BEGIN:VEVENT
DTSTART;TZID=Asia/Kolkata:20240425T131500
DTEND;TZID=Asia/Kolkata:20240425T170000
DTSTAMP:20260424T014056
CREATED:20240425T104220Z
LAST-MODIFIED:20240425T104253Z
UID:8736-1714050900-1714064400@imamirabhayander.org
SUMMARY:CME Urology
DESCRIPTION:Bhakti Vedanta\, In Association with IMA MB & BMA invites you to a CME on Urolithiasis Updates on Thursday\, 25th April 2024. \nFor registration – Click Here
URL:https://imamirabhayander.org/event/cme-urology/
CATEGORIES:CME
ATTACH;FMTTYPE=image/png:https://imamirabhayander.org/wp-content/uploads/2024/04/CME-Urology-25th-April-2024.png
END:VEVENT
END:VCALENDAR